BEGIN:VCALENDAR
VERSION:2.0
PRODID:-//ChamberMaster//Event Calendar 2.0//EN
METHOD:PUBLISH
X-PUBLISHED-TTL:P3D
REFRESH-INTERVAL:P3D
CALSCALE:GREGORIAN
BEGIN:VEVENT
DTSTART:20220716T180000Z
DTEND:20220716T220000Z
X-MICROSOFT-CDO-ALLDAYEVENT:FALSE
SUMMARY:YPS Cornhole Tournament
DESCRIPTION:Join the Young Professionals of Solano for its first Cornhole Tournament at One Lake. This tournament is the organization's kick-off fundraising event for its nonprofit of the year\, CASA Solano.\n\nThis is a family-friendly event with vendors\, food trucks\, and raffles. \n\n\n\nREGISTER\n\n\n\nIf you are a food truck looking to set up\, please email Erika Walthall for information- erikawalthallrealtor@gmail.com.
X-ALT-DESC;FMTTYPE=text/html:<br />\nJoin the Young Professionals of Solano for its first Cornhole Tournament at One Lake. This tournament is the organization&#39\;s kick-off fundraising event for its nonprofit of the year\, CASA Solano.<br />\nThis is a family-friendly event with vendors\, food trucks\, and raffles.&nbsp\;<br />\n<br />\n<u style="font-size: 20px\;"><strong><a href="https://vacavillechamber.chambermaster.com/eventregistration/register/4765">REGISTER</a></strong></u><br />\n<br />\nIf you are a food truck looking to set up\, please email Erika Walthall for information- <a href="mailto:erikawalthallrealtor@gmail.com?subject=YPS%20Cornhole%20Tournament">erikawalthallrealtor@gmail.com</a>.
LOCATION:One Lake 5350 One Lake Dr\, Fairfield\, CA 94533
UID:e.1559.4765
SEQUENCE:3
DTSTAMP:20260426T015139Z
URL:https://business.vacavillechamber.com/events/details/yps-cornhole-tournament-4765
END:VEVENT

END:VCALENDAR
