BEGIN:VCALENDAR
VERSION:2.0
PRODID:-//ChamberMaster//Event Calendar 2.0//EN
METHOD:PUBLISH
X-PUBLISHED-TTL:P3D
REFRESH-INTERVAL:P3D
CALSCALE:GREGORIAN
BEGIN:VEVENT
DTSTART:20180119T030000Z
DTEND:20180119T050000Z
X-MICROSOFT-CDO-ALLDAYEVENT:FALSE
SUMMARY:Young Professionals of Vacaville- Kick Off Event
DESCRIPTION:New Year New Group! Young Professionals of Vacaville are an enthusiastic group of twenty to thirty something year olds\, ready to empower and grow the future leaders of the community! Join them to learn more!
X-ALT-DESC;FMTTYPE=text/html:New Year New Group! Young Professionals of Vacaville are an enthusiastic group of twenty to thirty something year olds\, ready to empower and grow the future leaders of the community! Join them to learn more!<br />\n&nbsp\;
LOCATION:Fortress Restaurant & Lounge 547 Main Street\, Vacaville
UID:e.1559.2047
SEQUENCE:3
DTSTAMP:20260420T001748Z
URL:https://business.vacavillechamber.com/events/details/young-professionals-of-vacaville-kick-off-event-2047
END:VEVENT

END:VCALENDAR
