BEGIN:VCALENDAR
VERSION:2.0
PRODID:-//ChamberMaster//Event Calendar 2.0//EN
METHOD:PUBLISH
X-PUBLISHED-TTL:P3D
REFRESH-INTERVAL:P3D
CALSCALE:GREGORIAN
BEGIN:VEVENT
DTSTART:20170824T010000Z
DTEND:20170824T030000Z
X-MICROSOFT-CDO-ALLDAYEVENT:FALSE
SUMMARY:Women Recruiting Event for Financial Advisor Positon with Edward Jones
DESCRIPTION:Learn all about it.\n\nLooking for a career with flexibility support and unlimited earning potential?\n\nYou'll find it all with a Financial Advisor career with Edward Jones.\n\nTake your first step toward a lifelong career at this recruiting event. You'll meet current Financial Advisors and hear\n\nwhat brought them to Edward Jones   and why they stay. You'll learn about our unique business model\, our extensive training programs and our network of supportive colleagues across the country. If you demonstrate leadership skills and strong initiative\, we can teach you how to build a financial services business.\n\nDon't miss this opportunity!\n\nfacebook.com/edwardjonescareers\n\nlinkedin.com/company/edward-jones\n\nEdward Jones does not discriminate on the basis of race\, color\, gender\, religion\, national origin\, age\, disability\, sexual orientation\, pregnancy\, veteran status\, genetic information or any other basis prohibited by applicable law.
X-ALT-DESC;FMTTYPE=text/html:<p><strong>Learn all about it.</strong></p>\n\n<p>Looking for a career with flexibility support and unlimited earning potential?</p>\n\n<p>You&rsquo\;ll find it all with a Financial Advisor career with Edward Jones.</p>\n\n<p>Take your first step toward a lifelong career at this recruiting event. You&rsquo\;ll meet current Financial Advisors and hear<br />\nwhat brought them to Edward Jones &ndash\; and why they stay. You&rsquo\;ll learn about our unique business model\, our extensive training programs and our network of supportive colleagues across the country. If you demonstrate leadership skills and strong initiative\, we can teach you how to build a financial services business.</p>\n\n<p>Don&rsquo\;t miss this opportunity!</p>\n\n<p>facebook.com/edwardjonescareers</p>\n\n<p>linkedin.com/company/edward-jones</p>\n\n<p>Edward Jones does not discriminate on the basis of race\, color\, gender\, religion\, national origin\, age\, disability\, sexual orientation\, pregnancy\, veteran status\, genetic information or any other basis prohibited by applicable law.</p>\n
LOCATION:Piatti Italian Restaurant 571 Pavilions Lane Sacramento\, CA 95825 (must register in advance)
UID:e.1559.2001
SEQUENCE:3
DTSTAMP:20260420T064916Z
URL:https://business.vacavillechamber.com/events/details/women-recruiting-event-for-financial-advisor-positon-with-edward-jones-2001
END:VEVENT

END:VCALENDAR
