BEGIN:VCALENDAR
VERSION:2.0
PRODID:-//ChamberMaster//Event Calendar 2.0//EN
METHOD:PUBLISH
X-PUBLISHED-TTL:P3D
REFRESH-INTERVAL:P3D
CALSCALE:GREGORIAN
BEGIN:VEVENT
DTSTART:20170928T170000Z
DTEND:20170929T000000Z
X-MICROSOFT-CDO-ALLDAYEVENT:FALSE
SUMMARY:Wine Tour
DESCRIPTION:Join us on a Wine Tour of Suisun Valley. Six hour tour bus\, five wineries\, lunch\, water and snacks provided. *Tasting fees not included.
X-ALT-DESC;FMTTYPE=text/html:Join us on a Wine Tour of Suisun&nbsp\;Valley. Six hour tour bus\, five wineries\, lunch\, water and snacks provided. *Tasting fees not included.
LOCATION:Please contact the Chamber for pick up and drop off location information.
UID:e.1559.2014
SEQUENCE:3
DTSTAMP:20260420T053127Z
URL:https://business.vacavillechamber.com/events/details/wine-tour-2014
END:VEVENT

END:VCALENDAR
