BEGIN:VCALENDAR
VERSION:2.0
PRODID:-//ChamberMaster//Event Calendar 2.0//EN
METHOD:PUBLISH
X-PUBLISHED-TTL:P3D
REFRESH-INTERVAL:P3D
CALSCALE:GREGORIAN
BEGIN:VEVENT
DTSTART:20150414T003000Z
DTEND:20150414T020000Z
X-MICROSOFT-CDO-ALLDAYEVENT:FALSE
SUMMARY:Welcome Reception for Becky Craig\, President/CEO
DESCRIPTION:Join us to welcome our new President/CEO Becky Craig on Monday\, April 13th from 5:30 p.m. - 7:00 p.m. Light refreshments and wine will be provided.
X-ALT-DESC;FMTTYPE=text/html:Join us to welcome our new President/CEO Becky Craig on Monday\, April 13th from 5:30 p.m. - 7:00 p.m. Light refreshments and wine will be provided.
LOCATION:300 Main Street\, Suite A\, Vacaville\, CA 95688
UID:e.1559.1613
SEQUENCE:3
DTSTAMP:20260421T185336Z
URL:https://business.vacavillechamber.com/events/details/welcome-reception-for-becky-craig-president-ceo-04-13-2015-1613
END:VEVENT

END:VCALENDAR
