BEGIN:VCALENDAR
VERSION:2.0
PRODID:-//ChamberMaster//Event Calendar 2.0//EN
METHOD:PUBLISH
X-PUBLISHED-TTL:P3D
REFRESH-INTERVAL:P3D
CALSCALE:GREGORIAN
BEGIN:VEVENT
DTSTART:20150519T150000Z
DTEND:20150519T160000Z
X-MICROSOFT-CDO-ALLDAYEVENT:FALSE
SUMMARY:Wakeup Vacaville at Absolute Family Chiropractic
DESCRIPTION:Absolute Family Chiropractic is hosting a Wake-Up! Start your Tuesday off with a light breakfast and conversation with Vacaville Chamber members. Don't forget to bring a raffle prize to promote your business!
X-ALT-DESC;FMTTYPE=text/html:<a aria-describedby="js_l" aria-haspopup="true" aria-owns="js_k" class="profileLink" data-gt="{&quot\;entity_id&quot\;:&quot\;97374329742&quot\;\,&quot\;entity_path&quot\;:&quot\;\\/pagelet\\/pageletserver.php:PagePostsPagelet&quot\;}" data-hovercard="/ajax/hovercard/page.php?id=97374329742" href="https://www.facebook.com/pages/Absolute-Family-Chiropractic/97374329742" id="js_m" style="color: rgb(59\, 89\, 152)\; cursor: pointer\; text-decoration: none\; font-family: helvetica\, arial\, 'lucida grande'\, sans-serif\; font-size: 14px\; line-height: 19.3199996948242px\;">Absolute Family Chiropractic</a><span style="color: rgb(20\, 24\, 35)\; font-family: helvetica\, arial\, 'lucida grande'\, sans-serif\; font-size: 14px\; line-height: 19.3199996948242px\;">&nbsp\;is hosting a Wake-Up! Start your Tuesday off with a light breakfast and conversation with Vacaville Chamber members. Don&#39\;t forget to bring a raffle prize to promote your business!</span>
LOCATION:1490 Alamo Dr\, Vacaville\, CA 95687
UID:e.1559.1745
SEQUENCE:3
DTSTAMP:20260421T172732Z
URL:https://business.vacavillechamber.com/events/details/wakeup-vacaville-at-absolute-family-chiropractic-05-19-2015-1745
END:VEVENT

END:VCALENDAR
