BEGIN:VCALENDAR
VERSION:2.0
PRODID:-//ChamberMaster//Event Calendar 2.0//EN
METHOD:PUBLISH
X-PUBLISHED-TTL:P3D
REFRESH-INTERVAL:P3D
CALSCALE:GREGORIAN
BEGIN:VEVENT
DTSTART:20160816T150000Z
DTEND:20160816T160000Z
X-MICROSOFT-CDO-ALLDAYEVENT:FALSE
SUMMARY:Wake Up Vacaville with Umpqua Bank
DESCRIPTION:Good Morning!! Wake Up Vacaville!\n\nPlease join us for a morning coffee and pastries hosted by Umpqua Bank.
X-ALT-DESC;FMTTYPE=text/html:<br />\n<span style="font-size:16px\;"><strong>Good Morning!! Wake Up Vacaville!</strong></span><br />\nPlease join us for a morning coffee and pastries hosted by Umpqua Bank.&nbsp\;
LOCATION:403 Davis Street Vacaville\, CA 95688
UID:e.1559.1890
SEQUENCE:3
DTSTAMP:20260420T222624Z
URL:https://business.vacavillechamber.com/events/details/wake-up-vacaville-with-umpqua-bank-08-16-2016-1890
END:VEVENT

END:VCALENDAR
