BEGIN:VCALENDAR
VERSION:2.0
PRODID:-//ChamberMaster//Event Calendar 2.0//EN
METHOD:PUBLISH
X-PUBLISHED-TTL:P3D
REFRESH-INTERVAL:P3D
CALSCALE:GREGORIAN
BEGIN:VEVENT
DTSTART:20181120T160000Z
DTEND:20181120T170000Z
X-MICROSOFT-CDO-ALLDAYEVENT:FALSE
SUMMARY:Wake Up Vacaville- Hosted by U.S. Army Recruiting Center
DESCRIPTION:Wake Up Vacaville!\n\n\n\nJoin us and our host\, U.S. Vacaville Army Recruiting Center\, for great networking\, coffee\, and morning pastries before heading into to work!
X-ALT-DESC;FMTTYPE=text/html:Wake Up Vacaville!<br />\n<br />\nJoin us and our host\, U.S. Vacaville Army Recruiting Center\, for great networking\, coffee\, and morning pastries before heading into to work!&nbsp\;
LOCATION:2091 C-1 Harbison Drive Vacaville\, CA 95687
UID:e.1559.2074
SEQUENCE:3
DTSTAMP:20260421T104942Z
URL:https://business.vacavillechamber.com/events/details/wake-up-vacaville-hosted-by-u-s-army-recruiting-center-2074
END:VEVENT

END:VCALENDAR
