BEGIN:VCALENDAR
VERSION:2.0
PRODID:-//ChamberMaster//Event Calendar 2.0//EN
METHOD:PUBLISH
X-PUBLISHED-TTL:P3D
REFRESH-INTERVAL:P3D
CALSCALE:GREGORIAN
BEGIN:VEVENT
DTSTART:20150818T150000Z
DTEND:20150818T160000Z
X-MICROSOFT-CDO-ALLDAYEVENT:FALSE
SUMMARY:Wake-Up Vacaville hosted by Solano Signs
DESCRIPTION:Please join us at our monthly Wake-Up hosted by Solano Signs.
X-ALT-DESC;FMTTYPE=text/html:Please join us at our monthly Wake-Up&nbsp\;hosted by Solano Signs.&nbsp\;
LOCATION:1331 Oliver Road\, Fairfield\, CA\, 94533
UID:e.1559.1760
SEQUENCE:3
DTSTAMP:20260421T132534Z
URL:https://business.vacavillechamber.com/events/details/wake-up-vacaville-hosted-by-solano-signs-08-18-2015-1760
END:VEVENT

END:VCALENDAR
