BEGIN:VCALENDAR
VERSION:2.0
PRODID:-//ChamberMaster//Event Calendar 2.0//EN
METHOD:PUBLISH
X-PUBLISHED-TTL:P3D
REFRESH-INTERVAL:P3D
CALSCALE:GREGORIAN
BEGIN:VEVENT
DTSTART:20180220T160000Z
DTEND:20180220T170000Z
X-MICROSOFT-CDO-ALLDAYEVENT:FALSE
SUMMARY:Wake Up Vacaville- Hosted by Plata Realty Group
DESCRIPTION:Wake Up Vacaville! Join us for a morning networking event hosted by Plata Realty Group!
X-ALT-DESC;FMTTYPE=text/html:Wake Up Vacaville! Join us for a morning networking event hosted by Plata Realty Group!<br />\n&nbsp\;
LOCATION:430 Cernon Street Vacaville
UID:e.1559.2035
SEQUENCE:3
DTSTAMP:20260419T225836Z
URL:https://business.vacavillechamber.com/events/details/wake-up-vacaville-hosted-by-plata-realty-group-2035
END:VEVENT

END:VCALENDAR
