BEGIN:VCALENDAR
VERSION:2.0
PRODID:-//ChamberMaster//Event Calendar 2.0//EN
METHOD:PUBLISH
X-PUBLISHED-TTL:P3D
REFRESH-INTERVAL:P3D
CALSCALE:GREGORIAN
BEGIN:VEVENT
DTSTART:20180515T150000Z
DTEND:20180515T160000Z
X-MICROSOFT-CDO-ALLDAYEVENT:FALSE
SUMMARY:Wake Up Vacaville- Hosted by Pacifica Senior Living
DESCRIPTION:Morning Wake Up Hosted by Pacifica Senior Living! Join us before heading into the office for coffee\, pastries\, and great networking!
X-ALT-DESC;FMTTYPE=text/html:Morning Wake Up Hosted by Pacifica&nbsp\;Senior Living! Join us before heading into the office for coffee\, pastries\, and great networking!<br />\n&nbsp\;
LOCATION:431 Nut Tree Rd Vacaville\, CA 95687
UID:e.1559.2040
SEQUENCE:3
DTSTAMP:20260419T184757Z
URL:https://business.vacavillechamber.com/events/details/wake-up-vacaville-hosted-by-pacifica-senior-living-2040
END:VEVENT

END:VCALENDAR
