BEGIN:VCALENDAR
VERSION:2.0
PRODID:-//ChamberMaster//Event Calendar 2.0//EN
METHOD:PUBLISH
X-PUBLISHED-TTL:P3D
REFRESH-INTERVAL:P3D
CALSCALE:GREGORIAN
BEGIN:VEVENT
DTSTART:20180417T150000Z
DTEND:20180417T160000Z
X-MICROSOFT-CDO-ALLDAYEVENT:FALSE
SUMMARY:Wake Up Vacaville- Hosted by Gillespie's Abby Carpet & Flooring
DESCRIPTION:Join us and our host Gillespie's Abby Carpet & Flooring for our monthly Morning Wake Up!\n\n\n\nDon't forget your business cards!
X-ALT-DESC;FMTTYPE=text/html:Join us and our host Gillespie&#39\;s Abby Carpet &amp\; Flooring for our monthly Morning Wake Up!<br />\n<br />\nDon&#39\;t forget your business cards!
LOCATION:360 Chadbourne Rd Fairfield\, CA
UID:e.1559.2038
SEQUENCE:3
DTSTAMP:20260419T201333Z
URL:https://business.vacavillechamber.com/events/details/wake-up-vacaville-hosted-by-gillespie-s-abby-carpet-flooring-2038
END:VEVENT

END:VCALENDAR
