BEGIN:VCALENDAR
VERSION:2.0
PRODID:-//ChamberMaster//Event Calendar 2.0//EN
METHOD:PUBLISH
X-PUBLISHED-TTL:P3D
REFRESH-INTERVAL:P3D
CALSCALE:GREGORIAN
BEGIN:VEVENT
DTSTART:20170516T150000Z
DTEND:20170516T160000Z
X-MICROSOFT-CDO-ALLDAYEVENT:FALSE
SUMMARY:Wake Up Vacaville- Hosted by: Erica Marie's Catering
DESCRIPTION:Wake Up Vacaville! Join us for some great networking and coffee & pastries hosted by Erica Marie's Catering!
X-ALT-DESC;FMTTYPE=text/html:<span style="font-family: &quot\;Trebuchet MS&quot\;\, Arial\, Helvetica\, Geneva\, Swiss\, SunSans-Regular\; font-size: 16px\;">Wake Up Vacaville! Join us for some great networking and coffee &amp\; pastries hosted by Erica Marie&#39\;s Catering!&nbsp\;</span>
LOCATION:819 Davis Street\, Suite A Vacaville\, CA 95687
UID:e.1559.1954
SEQUENCE:3
DTSTAMP:20260420T110608Z
URL:https://business.vacavillechamber.com/events/details/wake-up-vacaville-hosted-by-erica-marie-s-catering-1954
END:VEVENT

END:VCALENDAR
