BEGIN:VCALENDAR
VERSION:2.0
PRODID:-//ChamberMaster//Event Calendar 2.0//EN
METHOD:PUBLISH
X-PUBLISHED-TTL:P3D
REFRESH-INTERVAL:P3D
CALSCALE:GREGORIAN
BEGIN:VEVENT
DTSTART:20141118T160000Z
DTEND:20141118T170000Z
X-MICROSOFT-CDO-ALLDAYEVENT:FALSE
SUMMARY:Wake-Up Vacaville hosted by Dickey's BBQ
DESCRIPTION:Join us for our November Wake-Up Vacaville hosted by Dickey's BBQ in Vacaville.
X-ALT-DESC;FMTTYPE=text/html:Join us for our November Wake-Up Vacaville hosted by Dickey&#39\;s BBQ in Vacaville.
LOCATION:150 Nut Tree Parkway\, Suite 100\, Vacaville\, CA 95688
UID:e.1559.1581
SEQUENCE:3
DTSTAMP:20260422T014527Z
URL:https://business.vacavillechamber.com/events/details/wake-up-vacaville-hosted-by-dickey-s-bbq-11-18-2014-1581
END:VEVENT

END:VCALENDAR
