BEGIN:VCALENDAR
VERSION:2.0
PRODID:-//ChamberMaster//Event Calendar 2.0//EN
METHOD:PUBLISH
X-PUBLISHED-TTL:P3D
REFRESH-INTERVAL:P3D
CALSCALE:GREGORIAN
BEGIN:VEVENT
DTSTART:20180619T150000Z
DTEND:20180619T160000Z
X-MICROSOFT-CDO-ALLDAYEVENT:FALSE
SUMMARY:Wake Up Vacaville- Hosted by Deb's Balloons
DESCRIPTION:Wake Up Vacaville. Join us and our host\, Deb's Balloons\, for a morning of coffee\, pastries\, and networking!
X-ALT-DESC;FMTTYPE=text/html:Wake Up Vacaville. Join us and our host\, Deb&#39\;s Balloons\, for a morning of coffee\, pastries\, and networking!
LOCATION:300 Main Street Vacaville\, CA
UID:e.1559.2042
SEQUENCE:3
DTSTAMP:20260419T171458Z
URL:https://business.vacavillechamber.com/events/details/wake-up-vacaville-hosted-by-deb-s-balloons-2042
END:VEVENT

END:VCALENDAR
