BEGIN:VCALENDAR
VERSION:2.0
PRODID:-//ChamberMaster//Event Calendar 2.0//EN
METHOD:PUBLISH
X-PUBLISHED-TTL:P3D
REFRESH-INTERVAL:P3D
CALSCALE:GREGORIAN
BEGIN:VEVENT
DTSTART:20150721T150000Z
DTEND:20150721T160000Z
X-MICROSOFT-CDO-ALLDAYEVENT:FALSE
SUMMARY:Wake-Up Vacaville hosted by Chick-fil-A
DESCRIPTION:Join us at Wake-Up Vacaville hosted by Chick-fil-A on Tuesday\, July 21st from 8:00 - 9:00 am.
X-ALT-DESC;FMTTYPE=text/html:Join us at Wake-Up Vacaville hosted by Chick-fil-A&nbsp\;on Tuesday\, July 21st&nbsp\;from 8:00 - 9:00 am.&nbsp\;
LOCATION:2081 Harbison Drive\, Vacaville
UID:e.1559.1757
SEQUENCE:3
DTSTAMP:20260421T145705Z
URL:https://business.vacavillechamber.com/events/details/wake-up-vacaville-hosted-by-chick-fil-a-07-21-2015-1757
END:VEVENT

END:VCALENDAR
