BEGIN:VCALENDAR
VERSION:2.0
PRODID:-//ChamberMaster//Event Calendar 2.0//EN
METHOD:PUBLISH
X-PUBLISHED-TTL:P3D
REFRESH-INTERVAL:P3D
CALSCALE:GREGORIAN
BEGIN:VEVENT
DTSTART:20180918T150000Z
DTEND:20180918T160000Z
X-MICROSOFT-CDO-ALLDAYEVENT:FALSE
SUMMARY:Wake Up Vacaville- Hosted by Century 21 M & M
DESCRIPTION:Wake Up Vacaville!\n\nHead over to Century 21 M& M and Associates for a morning of coffee\, pastries\, and networking before heading off to work!
X-ALT-DESC;FMTTYPE=text/html:<span style="font-family: &quot\;Trebuchet MS&quot\;\, Arial\, Helvetica\, Geneva\, Swiss\, SunSans-Regular\; font-size: 16px\;">Wake Up Vacaville!</span><br style="box-sizing: content-box\; bottom: auto\; clear: none\; content: normal\; direction: inherit\; display: inline\; empty-cells: show\; float: none\; font-variant-numeric: inherit\; font-variant-east-asian: inherit\; font-stretch: inherit\; font-size: 16px\; font-family: &quot\;Trebuchet MS&quot\;\, Arial\, Helvetica\, Geneva\, Swiss\, SunSans-Regular\; left: auto\; line-height: inherit\; margin: 0px\; max-height: none\; max-width: none\; min-height: initial\; min-width: initial\; opacity: 1\; outline-offset: 0px\; overflow: visible\; padding: 0px\; position: static\; resize: none\; right: auto\; table-layout: auto\; text-overflow: clip\; top: auto\; vertical-align: baseline\; visibility: inherit\; word-break: inherit\; word-wrap: inherit\; z-index: auto\; background-image: none\; background-position: initial\; background-size: initial\; background-repeat: initial\; background-attachment: initial\; background-origin: initial\; background-clip: initial\; border: none\; border-collapse: separate\; border-radius: 0px\; height: auto\; width: auto\;" />\n<span style="font-family: &quot\;Trebuchet MS&quot\;\, Arial\, Helvetica\, Geneva\, Swiss\, SunSans-Regular\; font-size: 16px\;">Head over to Century 21 M&amp\; M and Associates for a morning of coffee\, pastries\, and networking before heading off to work!</span>
LOCATION:409 Main Street\, Suite A Vacaville\, CA 95688
UID:e.1559.2073
SEQUENCE:3
DTSTAMP:20260419T130854Z
URL:https://business.vacavillechamber.com/events/details/wake-up-vacaville-hosted-by-century-21-m-m-2073
END:VEVENT

END:VCALENDAR
