BEGIN:VCALENDAR
VERSION:2.0
PRODID:-//ChamberMaster//Event Calendar 2.0//EN
METHOD:PUBLISH
X-PUBLISHED-TTL:P3D
REFRESH-INTERVAL:P3D
CALSCALE:GREGORIAN
BEGIN:VEVENT
DTSTART:20180320T150000Z
DTEND:20180320T160000Z
X-MICROSOFT-CDO-ALLDAYEVENT:FALSE
SUMMARY:Wake Up Vacaville- Hosted by Always Best Care Senior Services
DESCRIPTION:Wake Up Vacaville!\n\n\n\nHead over to Always Best Care Senior Services for a morning of coffee\, parties\, and networking before heading off to work!
X-ALT-DESC;FMTTYPE=text/html:Wake Up Vacaville!<br />\n<br />\nHead over to Always Best Care Senior Services for a morning of coffee\, parties\, and networking before heading off to work!
LOCATION:479 Mason Street\, Suite 101 Vacaville
UID:e.1559.2036
SEQUENCE:3
DTSTAMP:20260419T213349Z
URL:https://business.vacavillechamber.com/events/details/wake-up-vacaville-hosted-by-always-best-care-senior-services-2036
END:VEVENT

END:VCALENDAR
