BEGIN:VCALENDAR
VERSION:2.0
PRODID:-//ChamberMaster//Event Calendar 2.0//EN
METHOD:PUBLISH
X-PUBLISHED-TTL:P3D
REFRESH-INTERVAL:P3D
CALSCALE:GREGORIAN
BEGIN:VEVENT
DTSTART:20170718T150000Z
DTEND:20170718T160000Z
X-MICROSOFT-CDO-ALLDAYEVENT:FALSE
SUMMARY:Wake Up Vacaville- Hosted by: Airport Self Storage
DESCRIPTION:Wake Up Vacaville! Join us and our host\, Airport Self Storage\, for a morning of networking\, coffee\, and \, morning treats!
X-ALT-DESC;FMTTYPE=text/html:Wake Up Vacaville! Join us and our host\, Airport Self Storage\, for a morning of networking\, coffee\, and \, morning treats!&nbsp\;
LOCATION:2049 E. Monte Vista Ave Vacaville\, CA 95688
UID:e.1559.1986
SEQUENCE:3
DTSTAMP:20260420T081408Z
URL:https://business.vacavillechamber.com/events/details/wake-up-vacaville-hosted-by-airport-self-storage-1986
END:VEVENT

END:VCALENDAR
