BEGIN:VCALENDAR
VERSION:2.0
PRODID:-//ChamberMaster//Event Calendar 2.0//EN
METHOD:PUBLISH
X-PUBLISHED-TTL:P3D
REFRESH-INTERVAL:P3D
CALSCALE:GREGORIAN
BEGIN:VEVENT
DTSTART:20180116T160000Z
DTEND:20180116T170000Z
X-MICROSOFT-CDO-ALLDAYEVENT:FALSE
SUMMARY:Wake Up Vacaville- Host by Victoria Barros-Ortiz State Farm Insurance
DESCRIPTION:Wake up Vacaville! Join us and our host\, State Farm Victoria Barros-Ortiz and team for our monthly Wake UP! Start your day with coffee\, pastries and networking! Don't forget your business cards!
X-ALT-DESC;FMTTYPE=text/html:Wake up Vacaville! Join us and our host\, State Farm Victoria Barros-Ortiz and team for our monthly Wake UP! Start your day with coffee\, pastries and networking! Don&#39\;t forget your business cards!
LOCATION:2050 Peabody Rd\, Suite 200 Vacaville\, CA
UID:e.1559.2033
SEQUENCE:3
DTSTAMP:20260420T001607Z
URL:https://business.vacavillechamber.com/events/details/wake-up-vacaville-host-by-victoria-barros-ortiz-state-farm-insurance-2033
END:VEVENT

END:VCALENDAR
