BEGIN:VCALENDAR
VERSION:2.0
PRODID:-//ChamberMaster//Event Calendar 2.0//EN
METHOD:PUBLISH
X-PUBLISHED-TTL:P3D
REFRESH-INTERVAL:P3D
CALSCALE:GREGORIAN
BEGIN:VEVENT
DTSTART:20160621T150000Z
DTEND:20160621T160000Z
X-MICROSOFT-CDO-ALLDAYEVENT:FALSE
SUMMARY:Wake Up Vacaville at Dream Dinners!
DESCRIPTION:A food preparation center\, where customers assemble & pack a selection of meals to take home & cook.  Easy and delicious!
X-ALT-DESC;FMTTYPE=text/html:<span style="color: rgb(34\, 34\, 34)\; font-family: arial\, sans-serif\; font-size: 13px\; line-height: 16.12px\; background-color: rgb(255\, 255\, 255)\;">A food preparation center\, where customers assemble &amp\; pack a selection of meals to take home &amp\; cook. &nbsp\;Easy and delicious!</span>
LOCATION:Dream Dinner Vacaville 211 Peabody Road\, Suite A Vacaville
UID:e.1559.1855
SEQUENCE:3
DTSTAMP:20260421T005311Z
URL:https://business.vacavillechamber.com/events/details/wake-up-vacaville-at-dream-dinners-06-21-2016-1855
END:VEVENT

END:VCALENDAR
