BEGIN:VCALENDAR
VERSION:2.0
PRODID:-//ChamberMaster//Event Calendar 2.0//EN
METHOD:PUBLISH
X-PUBLISHED-TTL:P3D
REFRESH-INTERVAL:P3D
CALSCALE:GREGORIAN
BEGIN:VEVENT
DTSTART:20150317T150000Z
DTEND:20150317T160000Z
X-MICROSOFT-CDO-ALLDAYEVENT:FALSE
SUMMARY:Wake-Up Vacaville at CostPlus World Market
DESCRIPTION:Join us for our morning networking event Wake-Up Vacaville hosted by Cost Plus World Market.
X-ALT-DESC;FMTTYPE=text/html:Join us for our morning networking event Wake-Up Vacaville hosted by Cost Plus World Market.
LOCATION:1611 E. Monte Vista Avenue\, Vacaville
UID:e.1559.1600
SEQUENCE:3
DTSTAMP:20260421T201547Z
URL:https://business.vacavillechamber.com/events/details/wake-up-vacaville-at-costplus-world-market-03-17-2015-1600
END:VEVENT

END:VCALENDAR
