BEGIN:VCALENDAR
VERSION:2.0
PRODID:-//ChamberMaster//Event Calendar 2.0//EN
METHOD:PUBLISH
X-PUBLISHED-TTL:P3D
REFRESH-INTERVAL:P3D
CALSCALE:GREGORIAN
BEGIN:VEVENT
DTSTART:20150616T150000Z
DTEND:20150616T160000Z
X-MICROSOFT-CDO-ALLDAYEVENT:FALSE
SUMMARY:Wake-Up Vacaville at AZ Rents 2u
DESCRIPTION:Join us for our morning networking event Wake-Up Vacaville hosted by AZ Rents 2u!
X-ALT-DESC;FMTTYPE=text/html:Join us for our morning networking event Wake-Up Vacaville hosted by AZ Rents 2u!
LOCATION:800 Mason Street\, Vacaville\, CA 95688 (Hampton Inn & Suites)
UID:e.1559.1609
SEQUENCE:3
DTSTAMP:20260421T160950Z
URL:https://business.vacavillechamber.com/events/details/wake-up-vacaville-at-az-rents-2u-06-16-2015-1609
END:VEVENT

END:VCALENDAR
