BEGIN:VCALENDAR
VERSION:2.0
PRODID:-//ChamberMaster//Event Calendar 2.0//EN
METHOD:PUBLISH
X-PUBLISHED-TTL:P3D
REFRESH-INTERVAL:P3D
CALSCALE:GREGORIAN
BEGIN:VEVENT
DTSTART:20170815T150000Z
DTEND:20170815T160000Z
X-MICROSOFT-CDO-ALLDAYEVENT:FALSE
SUMMARY:Wake Up Vacaville
DESCRIPTION:Wake Up Vacaville. Join us and our host Hyundai of Vacaville for their Ribbon Cutting and Morning Wake Up Event!
X-ALT-DESC;FMTTYPE=text/html:Wake Up Vacaville. Join us and our host Hyundai of Vacaville for their Ribbon Cutting and Morning Wake Up Event!&nbsp\;
LOCATION:641 Orange Drive\, Vacaville
UID:e.1559.1955
SEQUENCE:3
DTSTAMP:20260420T064719Z
URL:https://business.vacavillechamber.com/events/details/wake-up-vacaville-1955
END:VEVENT

END:VCALENDAR
