BEGIN:VCALENDAR
VERSION:2.0
PRODID:-//ChamberMaster//Event Calendar 2.0//EN
METHOD:PUBLISH
X-PUBLISHED-TTL:P3D
REFRESH-INTERVAL:P3D
CALSCALE:GREGORIAN
BEGIN:VEVENT
DTSTART:20170926T150000Z
DTEND:20170926T160000Z
X-MICROSOFT-CDO-ALLDAYEVENT:FALSE
SUMMARY:Wake Up Vacaville
DESCRIPTION:Wake Up Vacaville! Join us and our host\, Sweet Pea's for a great morning networking morning with coffee and pastries!
X-ALT-DESC;FMTTYPE=text/html:Wake Up Vacaville! Join us and our host\, Sweet Pea&#39\;s for a great morning networking morning with coffee and pastries!
LOCATION:891 Alamo Drive Vacaville
UID:e.1559.1949
SEQUENCE:3
DTSTAMP:20260420T053508Z
URL:https://business.vacavillechamber.com/events/details/wake-up-vacaville-1949
END:VEVENT

END:VCALENDAR
