BEGIN:VCALENDAR
VERSION:2.0
PRODID:-//ChamberMaster//Event Calendar 2.0//EN
METHOD:PUBLISH
X-PUBLISHED-TTL:P3D
REFRESH-INTERVAL:P3D
CALSCALE:GREGORIAN
BEGIN:VEVENT
DTSTART:20151215T153000Z
DTEND:20151215T170000Z
X-MICROSOFT-CDO-ALLDAYEVENT:FALSE
SUMMARY:Wake Up Vacaville
DESCRIPTION:Networking opportunity hosted by Jackson Medical Supply\, KR Insurance and All Size Carpet & Flooring Center\n\n\n\nBring an item for the Gift Exchange!
X-ALT-DESC;FMTTYPE=text/html:Networking opportunity hosted by Jackson Medical Supply\, KR Insurance and All Size Carpet &amp\; Flooring Center<br />\n<br />\nBring an item for the Gift Exchange!
LOCATION:Hampton Inn & Suites 800 Mason Street
UID:e.1559.1789
SEQUENCE:3
DTSTAMP:20260421T082913Z
URL:https://business.vacavillechamber.com/events/details/wake-up-vacaville-12-15-2015-1789
END:VEVENT

END:VCALENDAR
