BEGIN:VCALENDAR
VERSION:2.0
PRODID:-//ChamberMaster//Event Calendar 2.0//EN
METHOD:PUBLISH
X-PUBLISHED-TTL:P3D
REFRESH-INTERVAL:P3D
CALSCALE:GREGORIAN
BEGIN:VEVENT
DTSTART:20151117T160000Z
DTEND:20151117T170000Z
X-MICROSOFT-CDO-ALLDAYEVENT:FALSE
SUMMARY:Wake-Up Vacaville
DESCRIPTION:
X-ALT-DESC;FMTTYPE=text/html:
LOCATION:Katheryn Tuberty\, Farmers Insurance 831 Alamo Drive\, Ste 8\, Vacaville
UID:e.1559.1767
SEQUENCE:3
DTSTAMP:20260421T094857Z
URL:https://business.vacavillechamber.com/events/details/wake-up-vacaville-11-17-2015-1767
END:VEVENT

END:VCALENDAR
