BEGIN:VCALENDAR
VERSION:2.0
PRODID:-//ChamberMaster//Event Calendar 2.0//EN
METHOD:PUBLISH
X-PUBLISHED-TTL:P3D
REFRESH-INTERVAL:P3D
CALSCALE:GREGORIAN
BEGIN:VEVENT
DTSTART:20160419T150000Z
DTEND:20160419T160000Z
X-MICROSOFT-CDO-ALLDAYEVENT:FALSE
SUMMARY:Wake Up Vacaville
DESCRIPTION:Network with fellow business owners and managers.
X-ALT-DESC;FMTTYPE=text/html:Network with fellow business owners and managers.
LOCATION:Workforce Investment Board 320 Campus Lane Fairfield CA 94534
UID:e.1559.1853
SEQUENCE:3
DTSTAMP:20260421T032046Z
URL:https://business.vacavillechamber.com/events/details/wake-up-vacaville-04-19-2016-1853
END:VEVENT

END:VCALENDAR
