BEGIN:VCALENDAR
VERSION:2.0
PRODID:-//ChamberMaster//Event Calendar 2.0//EN
METHOD:PUBLISH
X-PUBLISHED-TTL:P3D
REFRESH-INTERVAL:P3D
CALSCALE:GREGORIAN
BEGIN:VEVENT
DTSTART:20160216T160000Z
DTEND:20160216T170000Z
X-MICROSOFT-CDO-ALLDAYEVENT:FALSE
SUMMARY:Wake Up Vacaville
DESCRIPTION:Wake Up Vacaville
X-ALT-DESC;FMTTYPE=text/html:Wake Up Vacaville
LOCATION:Rita's of Vacaville 951 Alamo Drive\, Vacaville
UID:e.1559.1808
SEQUENCE:3
DTSTAMP:20260421T054829Z
URL:https://business.vacavillechamber.com/events/details/wake-up-vacaville-02-16-2016-1808
END:VEVENT

END:VCALENDAR
