BEGIN:VCALENDAR
VERSION:2.0
PRODID:-//ChamberMaster//Event Calendar 2.0//EN
METHOD:PUBLISH
X-PUBLISHED-TTL:P3D
REFRESH-INTERVAL:P3D
CALSCALE:GREGORIAN
BEGIN:VEVENT
DTSTART:20160119T160000Z
DTEND:20160119T170000Z
X-MICROSOFT-CDO-ALLDAYEVENT:FALSE
SUMMARY:Wake Up Vacaville
DESCRIPTION:Networking opportunity for local business people.
X-ALT-DESC;FMTTYPE=text/html:Networking opportunity for local business people.
LOCATION:Vacaville Christian High School - School Resource Center (second floor) 821 Marshall Rd\, Vacaville
UID:e.1559.1794
SEQUENCE:3
DTSTAMP:20260421T072454Z
URL:https://business.vacavillechamber.com/events/details/wake-up-vacaville-01-19-2016-1794
END:VEVENT

END:VCALENDAR
