BEGIN:VCALENDAR
VERSION:2.0
PRODID:-//ChamberMaster//Event Calendar 2.0//EN
METHOD:PUBLISH
X-PUBLISHED-TTL:P3D
REFRESH-INTERVAL:P3D
CALSCALE:GREGORIAN
BEGIN:VEVENT
DTSTART:20150915T150000Z
DTEND:20150915T160000Z
X-MICROSOFT-CDO-ALLDAYEVENT:FALSE
SUMMARY:Wake-Up hosted by Visit Vacaville
DESCRIPTION:Join us for our Wake-Up hosted by Visit Vacaville!
X-ALT-DESC;FMTTYPE=text/html:Join us for our Wake-Up hosted by Visit Vacaville!&nbsp\;
LOCATION:1661 E. Monte Vista Avenue\, Suite S-102\, Vacaville
UID:e.1559.1763
SEQUENCE:3
DTSTAMP:20260421T120259Z
URL:https://business.vacavillechamber.com/events/details/wake-up-hosted-by-visit-vacaville-09-15-2015-1763
END:VEVENT

END:VCALENDAR
