BEGIN:VCALENDAR
VERSION:2.0
PRODID:-//ChamberMaster//Event Calendar 2.0//EN
METHOD:PUBLISH
X-PUBLISHED-TTL:P3D
REFRESH-INTERVAL:P3D
CALSCALE:GREGORIAN
BEGIN:VEVENT
DTSTART:20151020T150000Z
DTEND:20151020T160000Z
X-MICROSOFT-CDO-ALLDAYEVENT:FALSE
SUMMARY:Wake-Up hosted by Sam's Club
DESCRIPTION:Join us for our Wake-Up hosted by Sam's Club!
X-ALT-DESC;FMTTYPE=text/html:Join us for our Wake-Up hosted by Sam&#39\;s Club!&nbsp\;
LOCATION:1500 Helen Power Drive\, Vacaville
UID:e.1559.1765
SEQUENCE:3
DTSTAMP:20260421T105306Z
URL:https://business.vacavillechamber.com/events/details/wake-up-hosted-by-sam-s-club-10-20-2015-1765
END:VEVENT

END:VCALENDAR
