BEGIN:VCALENDAR
VERSION:2.0
PRODID:-//ChamberMaster//Event Calendar 2.0//EN
METHOD:PUBLISH
X-PUBLISHED-TTL:P3D
REFRESH-INTERVAL:P3D
CALSCALE:GREGORIAN
BEGIN:VEVENT
DTSTART:20150120T160000Z
DTEND:20150120T170000Z
X-MICROSOFT-CDO-ALLDAYEVENT:FALSE
SUMMARY:Wake-Up hosted by KR Insurance & Financial Services
DESCRIPTION:
X-ALT-DESC;FMTTYPE=text/html:
LOCATION:350 Merchant Street\, Vacaville\, CA 95688
UID:e.1559.1587
SEQUENCE:3
DTSTAMP:20260421T225027Z
URL:https://business.vacavillechamber.com/events/details/wake-up-hosted-by-kr-insurance-financial-services-01-20-2015-1587
END:VEVENT

END:VCALENDAR
