BEGIN:VCALENDAR
VERSION:2.0
PRODID:-//ChamberMaster//Event Calendar 2.0//EN
METHOD:PUBLISH
X-PUBLISHED-TTL:P3D
REFRESH-INTERVAL:P3D
CALSCALE:GREGORIAN
BEGIN:VEVENT
DTSTART:20180911T173000Z
DTEND:20180911T183000Z
X-MICROSOFT-CDO-ALLDAYEVENT:FALSE
SUMMARY:Vacaville Unified School District Annual Report
DESCRIPTION:The Vacaville Unified School District and Vacaville Chamber of Commerce\n\ninvite local business/community leaders and parents to the presentation of the\n\n2018 Vacaville Unified Annual Update:\n\n\n\nVUSD Educational Services Center\, 401 Nut Tree Road\, Vacaville\n\nOur schools are the foundation of our community. Learn about actions that VUSD is taking\n\ntoward early learning foundations\, school safety\, kindness and respect at school\, multicultural\n\neducation\, workplace/career and technical education\, soft skill development\, college readiness\n\nopportunities\, Measure A projects and more.\n\n\n\nPlease RSVP here by September 10\, 2018
X-ALT-DESC;FMTTYPE=text/html:The Vacaville Unified School District and Vacaville Chamber of Commerce<br />\ninvite local business/community leaders and parents to the presentation of the<br />\n2018 Vacaville Unified Annual Update:<br />\n<br />\nVUSD Educational Services Center\, 401 Nut Tree Road\, Vacaville<br />\nOur schools are the foundation of our community. Learn about actions that VUSD is taking<br />\ntoward early learning foundations\, school safety\, kindness and respect at school\, multicultural<br />\neducation\, workplace/career and technical education\, soft skill development\, college readiness<br />\nopportunities\, Measure A projects and more.<br />\n<br />\nPlease RSVP here by September 10\, 2018
LOCATION:Educational Services Building 401 Nut Tree Road Vacaville CA 95687
UID:e.1559.2920
SEQUENCE:3
DTSTAMP:20260419T130900Z
URL:https://business.vacavillechamber.com/events/details/vacaville-unified-school-district-annual-report-2920
END:VEVENT

END:VCALENDAR
