BEGIN:VCALENDAR
VERSION:2.0
PRODID:-//ChamberMaster//Event Calendar 2.0//EN
METHOD:PUBLISH
X-PUBLISHED-TTL:P3D
REFRESH-INTERVAL:P3D
CALSCALE:GREGORIAN
BEGIN:VEVENT
DTSTART:20180914T010000Z
DTEND:20180914T030000Z
X-MICROSOFT-CDO-ALLDAYEVENT:FALSE
SUMMARY:Vacaville School Board Candidate Forum
DESCRIPTION:Local Candidate Forum\n\n\n\nHear each of the Candidates who are running for School Board Trustee seats.
X-ALT-DESC;FMTTYPE=text/html:Local Candidate Forum<br />\n<br />\nHear each of the Candidates who are running for School Board Trustee seats.
LOCATION:Travis Credit Union's Community Room 1 Travis Way\, Vacaville CA
UID:e.1559.2512
SEQUENCE:3
DTSTAMP:20260419T130518Z
URL:https://business.vacavillechamber.com/events/details/vacaville-school-board-candidate-forum-2512
END:VEVENT

END:VCALENDAR
