BEGIN:VCALENDAR
VERSION:2.0
PRODID:-//ChamberMaster//Event Calendar 2.0//EN
METHOD:PUBLISH
X-PUBLISHED-TTL:P3D
REFRESH-INTERVAL:P3D
CALSCALE:GREGORIAN
BEGIN:VEVENT
DTSTART:20180925T010000Z
DTEND:20180925T023000Z
X-MICROSOFT-CDO-ALLDAYEVENT:FALSE
SUMMARY:Vacaville Mayor & City Council Forum
DESCRIPTION:Local Candidate Forum\n\n\n\nHear each of the Candidates who are running for Mayor and City Council seats.
X-ALT-DESC;FMTTYPE=text/html:Local Candidate Forum<br />\n<br />\nHear each of the Candidates who are running for Mayor and City Council seats.
LOCATION:Travis Credit Union's Community Room 1 Travis Way\, Vacaville CA
UID:e.1559.2922
SEQUENCE:3
DTSTAMP:20260419T130901Z
URL:https://business.vacavillechamber.com/events/details/vacaville-mayor-city-council-forum-2922
END:VEVENT

END:VCALENDAR
