BEGIN:VCALENDAR
VERSION:2.0
PRODID:-//ChamberMaster//Event Calendar 2.0//EN
METHOD:PUBLISH
X-PUBLISHED-TTL:P3D
REFRESH-INTERVAL:P3D
CALSCALE:GREGORIAN
BEGIN:VEVENT
DTSTART:20170520T170000Z
DTEND:20170520T230000Z
X-MICROSOFT-CDO-ALLDAYEVENT:FALSE
SUMMARY:Vacaville High School Yard Sale
DESCRIPTION:The Vacaville High School Link Crew program is putting on its first ever Yard Sale fundraiser! Come support our students by heading down to the school to shop around\, listen to music\, and buy concessions. There will be many booths with plenty of items to sell. See you there!
X-ALT-DESC;FMTTYPE=text/html:The Vacaville High School Link Crew program is putting on its first ever Yard Sale fundraiser! Come support our students by heading down to the school to shop around\, listen to music\, and buy concessions. There will be many booths with plenty of items to sell. See you there!
LOCATION:Vacaville High School 100 W Monte Vista Ave Vacaville\, CA 95688 United States
UID:e.1559.1987
SEQUENCE:3
DTSTAMP:20260420T105754Z
URL:https://business.vacavillechamber.com/events/details/vacaville-high-school-yard-sale-1987
END:VEVENT

END:VCALENDAR
