BEGIN:VCALENDAR
VERSION:2.0
PRODID:-//ChamberMaster//Event Calendar 2.0//EN
METHOD:PUBLISH
X-PUBLISHED-TTL:P3D
REFRESH-INTERVAL:P3D
CALSCALE:GREGORIAN
BEGIN:VEVENT
DTSTART:20180225T010000Z
DTEND:20180225T050000Z
X-MICROSOFT-CDO-ALLDAYEVENT:FALSE
SUMMARY:Vacaville Christian Schools' Crab Feed
DESCRIPTION:Vacaville Christian School's\n\nAnnual Crab Feed
X-ALT-DESC;FMTTYPE=text/html:Vacaville Christian School&#39\;s<br />\nAnnual Crab Feed
LOCATION:Sunrise Event Center 600 Orange Drive Vacaville
UID:e.1559.2022
SEQUENCE:3
DTSTAMP:20260420T001905Z
URL:https://business.vacavillechamber.com/events/details/vacaville-christian-schools-crab-feed-2022
END:VEVENT

END:VCALENDAR
