BEGIN:VCALENDAR
VERSION:2.0
PRODID:-//ChamberMaster//Event Calendar 2.0//EN
METHOD:PUBLISH
X-PUBLISHED-TTL:P3D
REFRESH-INTERVAL:P3D
CALSCALE:GREGORIAN
BEGIN:VEVENT
DTSTART:20180415T200000Z
DTEND:20180519T230000Z
X-MICROSOFT-CDO-ALLDAYEVENT:FALSE
SUMMARY:Vacaville Art Gallery Student Art Show
DESCRIPTION:Vacaville Art Gallery's 27th Annual Student Art Show celebrates the immense talent of middle and high school students in our community. This inspiring exhibit represents a wide range of media from painting and drawing to mixed media\, sculpture\, photography and digital art. Congratulations to all of our students\, teachers and volunteers that make this possible. The Vacaville Art League is a 501(c)(3) nonprofit organization dedicated to the development and promotion of the visual arts. The art league largely depends on volunteers and financial support from the community at large.
X-ALT-DESC;FMTTYPE=text/html:Vacaville Art Gallery&#39\;s 27th Annual Student Art Show celebrates the immense talent of middle and high school students in our community. This inspiring exhibit represents a wide range of media from painting and drawing to mixed media\, sculpture\, photography and digital art. Congratulations to all of our students\, teachers and volunteers that make this possible. The Vacaville Art League is a 501(c)(3) nonprofit organization dedicated to the development and promotion of the visual arts. The art league largely depends on volunteers and financial support from the community at large.
LOCATION:718 E. Monte Vista Avenue Vacaville CA 95688
UID:e.1559.2079
SEQUENCE:3
DTSTAMP:20260419T185551Z
URL:https://business.vacavillechamber.com/events/details/vacaville-art-gallery-student-art-show-2079
END:VEVENT

END:VCALENDAR
