BEGIN:VCALENDAR
VERSION:2.0
PRODID:-//ChamberMaster//Event Calendar 2.0//EN
METHOD:PUBLISH
X-PUBLISHED-TTL:P3D
REFRESH-INTERVAL:P3D
CALSCALE:GREGORIAN
BEGIN:VEVENT
DTSTART:20151205T030000Z
DTEND:20151206T010000Z
X-MICROSOFT-CDO-ALLDAYEVENT:FALSE
SUMMARY:USAF Band of the Golden West Free Holiday Concerts
DESCRIPTION:The USAF Band of the Golden West will present a FREE Holiday performance at the Vacaville Performing Arts Center\, Dec 4 at 7PM and Dec 5 at 3PM.
X-ALT-DESC;FMTTYPE=text/html:The USAF Band of the Golden West will present a FREE Holiday performance at the Vacaville Performing Arts Center\, Dec 4 at 7PM and Dec 5 at 3PM.
LOCATION:Vacaville Performing Arts Center 1010 Ulatis Drive Vacaville\, CA 95687
UID:e.1559.1798
SEQUENCE:3
DTSTAMP:20260421T083412Z
URL:https://business.vacavillechamber.com/events/details/usaf-band-of-the-golden-west-free-holiday-concerts-12-04-2015-1798
END:VEVENT

END:VCALENDAR
