BEGIN:VCALENDAR
VERSION:2.0
PRODID:-//ChamberMaster//Event Calendar 2.0//EN
METHOD:PUBLISH
X-PUBLISHED-TTL:P3D
REFRESH-INTERVAL:P3D
CALSCALE:GREGORIAN
BEGIN:VEVENT
DTSTART:20161215T230000Z
DTEND:20161216T100000Z
X-MICROSOFT-CDO-ALLDAYEVENT:FALSE
SUMMARY:Ugly Sweater Party- The Brass Tap
DESCRIPTION:Wear an Ugly Christmas Sweater on Dec 15th at The Brass Tap\, and receive extended happy hour! Anchor Brewing will be hosting this event with great beer! They will also be giving a basket to the person with the Ugliest sweater!!
X-ALT-DESC;FMTTYPE=text/html:<span style="color: rgb(29\, 33\, 41)\; font-family: Helvetica\, Arial\, sans-serif\; font-size: 14px\;">Wear an Ugly Christmas Sweater on Dec 15th&nbsp\;at The Brass Tap\, and receive extended happy hour! Anchor Brewing will be hosting this event with great beer! They will also be giving a basket to the person with the Ugliest sweater!!</span>
LOCATION:The Brass Tap 783 Orange Dr Vacaville\, CA
UID:e.1559.1935
SEQUENCE:3
DTSTAMP:20260420T214333Z
URL:https://business.vacavillechamber.com/events/details/ugly-sweater-party-the-brass-tap-1935
END:VEVENT

END:VCALENDAR
