BEGIN:VCALENDAR
VERSION:2.0
PRODID:-//ChamberMaster//Event Calendar 2.0//EN
METHOD:PUBLISH
X-PUBLISHED-TTL:P3D
REFRESH-INTERVAL:P3D
CALSCALE:GREGORIAN
BEGIN:VEVENT
DTSTART:20161022T010000Z
DTEND:20161022T040000Z
X-MICROSOFT-CDO-ALLDAYEVENT:FALSE
SUMMARY:TRAFC Military Recognition Night
DESCRIPTION:Travis Regional Armed Forces Committee's Annual Military Recognition Night
X-ALT-DESC;FMTTYPE=text/html:Travis Regional Armed Forces Committee&#39\;s Annual Military Recognition Night
LOCATION:Green Valley Country Club
UID:e.1559.1861
SEQUENCE:3
DTSTAMP:20260420T194730Z
URL:https://business.vacavillechamber.com/events/details/trafc-military-recognition-night-10-21-2016-1861
END:VEVENT

END:VCALENDAR
