BEGIN:VCALENDAR
VERSION:2.0
PRODID:-//ChamberMaster//Event Calendar 2.0//EN
METHOD:PUBLISH
X-PUBLISHED-TTL:P3D
REFRESH-INTERVAL:P3D
CALSCALE:GREGORIAN
BEGIN:VEVENT
DTSTART:20160623T150000Z
DTEND:20160623T163000Z
X-MICROSOFT-CDO-ALLDAYEVENT:FALSE
SUMMARY:TRAFC Contractor's Breakfast
DESCRIPTION:Learn about opportunities and processes to do business with The Travis Air Force Base. RSVP by June 20th.
X-ALT-DESC;FMTTYPE=text/html:Learn about opportunities and processes to do business with The Travis Air Force Base. RSVP by June 20th.
LOCATION:Hampton Inn & Suites 800 Mason Rd
UID:e.1559.1821
SEQUENCE:3
DTSTAMP:20260421T005057Z
URL:https://business.vacavillechamber.com/events/details/trafc-contractor-s-breakfast-06-23-2016-1821
END:VEVENT

END:VCALENDAR
