BEGIN:VCALENDAR
VERSION:2.0
PRODID:-//ChamberMaster//Event Calendar 2.0//EN
METHOD:PUBLISH
X-PUBLISHED-TTL:P3D
REFRESH-INTERVAL:P3D
CALSCALE:GREGORIAN
BEGIN:VEVENT
DTSTART:20180607T150000Z
DTEND:20180607T170000Z
X-MICROSOFT-CDO-ALLDAYEVENT:FALSE
SUMMARY:TRAFC Annual Contractors' Breakfast
DESCRIPTION:Travis Regional Armed Forces' Committee\n\nAnnual Contractors Breakfast\n\n\n\nLearn how to gain business with the federal government
X-ALT-DESC;FMTTYPE=text/html:Travis Regional Armed Forces&#39\; Committee<br />\nAnnual Contractors Breakfast<br />\n<br />\nLearn how to gain business with the federal government&nbsp\;&nbsp\;&nbsp\;&nbsp\;
LOCATION:Hampton Inn & Suites 800 Mason St Vacaville CA
UID:e.1559.2095
SEQUENCE:3
DTSTAMP:20260419T171322Z
URL:https://business.vacavillechamber.com/events/details/trafc-annual-contractors-breakfast-2095
END:VEVENT

END:VCALENDAR
