BEGIN:VCALENDAR
VERSION:2.0
PRODID:-//ChamberMaster//Event Calendar 2.0//EN
METHOD:PUBLISH
X-PUBLISHED-TTL:P3D
REFRESH-INTERVAL:P3D
CALSCALE:GREGORIAN
BEGIN:VEVENT
DTSTART:20180426T010000Z
DTEND:20180426T040000Z
X-MICROSOFT-CDO-ALLDAYEVENT:FALSE
SUMMARY:TIPS Certification Training
DESCRIPTION:DO YOU PLAN ON VOLUNTEERING AND POURING ALCOHOL BEVERAGES THIS UPCOMING EVENT SEASON? SIGN UP FOR YOUR TIPS TRAINING AND GET CERTIFIED!\n\n\n\nREGISTRATION FEE INCLUDES BOOK\, CERTIFICATION CERTIFICATE\, FOOD AND DRINK.
X-ALT-DESC;FMTTYPE=text/html:<span style="font-size:12px\;"><span style="font-family:arial\;"><span style="font-variant-ligatures: no-common-ligatures\; font-weight: 700\; text-align: center\; text-transform: uppercase\; background-color: rgb(235\, 236\, 237)\;">DO YOU PLAN ON VOLUNTEERING AND POURING ALCOHOL BEVERAGES THIS UPCOMING EVENT SEASON?&nbsp\;</span><span style="font-variant-ligatures: no-common-ligatures\; font-weight: 700\; text-align: center\; text-transform: uppercase\; background-color: rgb(235\, 236\, 237)\;">SIGN UP FOR YOUR TIPS TRAINING AND GET CERTIFIED!</span></span></span><br />\n<br />\n<strong><span style="font-size:12px\;"><span style="font-family:arial\;"><span style="color: rgb(34\, 34\, 34)\; font-variant-ligatures: no-common-ligatures\; text-align: center\; text-transform: uppercase\; background-color: rgb(235\, 236\, 237)\;">REGISTRATION FEE INCLUDES BOOK\, CERTIFICATION CERTIFICATE\, FOOD AND DRINK.</span></span></span></strong>
LOCATION:Vacaville Chamber of Commerce 300 Main Street\, Suite A Vacaville\, CA 95688
UID:e.1559.2083
SEQUENCE:3
DTSTAMP:20260419T200629Z
URL:https://business.vacavillechamber.com/events/details/tips-certification-training-2083
END:VEVENT

END:VCALENDAR
