BEGIN:VCALENDAR
VERSION:2.0
PRODID:-//ChamberMaster//Event Calendar 2.0//EN
METHOD:PUBLISH
X-PUBLISHED-TTL:P3D
REFRESH-INTERVAL:P3D
CALSCALE:GREGORIAN
BEGIN:VEVENT
DTSTART:20160127T013000Z
DTEND:20160127T040000Z
X-MICROSOFT-CDO-ALLDAYEVENT:FALSE
SUMMARY:TIPS Certification Training
DESCRIPTION:TIPS training teaches attendees what to consider when serving alcohol. Whether for your job or as a volunteer\, this certification states that you are responsible for the service\, sale and consumption of alcohol.
X-ALT-DESC;FMTTYPE=text/html:TIPS training teaches attendees what to consider when serving alcohol. Whether for your job or as a volunteer\, this certification states that you are responsible for the service\, sale and consumption of alcohol.
LOCATION:Vacaville Chamber of Commerce's Conference Room
UID:e.1559.1793
SEQUENCE:3
DTSTAMP:20260421T070501Z
URL:https://business.vacavillechamber.com/events/details/tips-certification-training-01-26-2016-1793
END:VEVENT

END:VCALENDAR
