BEGIN:VCALENDAR
VERSION:2.0
PRODID:-//ChamberMaster//Event Calendar 2.0//EN
METHOD:PUBLISH
X-PUBLISHED-TTL:P3D
REFRESH-INTERVAL:P3D
CALSCALE:GREGORIAN
BEGIN:VEVENT
DTSTART:20181114T193000Z
DTEND:20181114T210000Z
X-MICROSOFT-CDO-ALLDAYEVENT:FALSE
SUMMARY:The Salvation Army of Solano County Very Cherry Red Kettle Kickoff
DESCRIPTION:Salvation Army Kroc Center Suisun City Very Cherry Red Kettle Kickoff is one week away!\n\n\n\n \n\n\n\nEvery day in Solano County\, families and individuals struggle to put food on the table\, keep a roof over their heads\, or keep the lights on in their homes. For many\, Christmas is just another season of struggle\, but it doesn't have to be. Your sponsorship at our Very Cherry Red Kettle Kick Off helps provide food\, homeless outreach\, rental assistance\, and so much more throughout the year. Your generosity makes the holidays very special for thousands of people this Christmas Season. Please\, help us be a shield for needy families and individuals all over Solano County.
X-ALT-DESC;FMTTYPE=text/html:<div data-block="true" data-editor="eodfn" data-offset-key="9tp1v-0-0" style="font-family: Helvetica\, Arial\, sans-serif\; color: rgb(29\, 33\, 41)\; font-size: 14px\; white-space: pre-wrap\;">\n<div class="_1mf _1mj" data-offset-key="9tp1v-0-0" style="position: relative\; direction: ltr\; font-family: inherit\;"><span style="font-size:16px\;"><span style="color:#000000\;"><span data-offset-key="9tp1v-0-0" style="font-family: inherit\;">Salvation Army Kroc Center Suisun City Very Cherry Red Kettle Kickoff is one week away!</span></span></span></div>\n</div>\n\n<div data-block="true" data-editor="eodfn" data-offset-key="78u0u-0-0" style="font-family: Helvetica\, Arial\, sans-serif\; color: rgb(29\, 33\, 41)\; font-size: 14px\; white-space: pre-wrap\;">\n<div class="_1mf _1mj" data-offset-key="78u0u-0-0" style="position: relative\; direction: ltr\; font-family: inherit\;">&nbsp\;</div>\n</div>\n\n<div data-block="true" data-editor="eodfn" data-offset-key="6isfd-0-0" style="font-family: Helvetica\, Arial\, sans-serif\; color: rgb(29\, 33\, 41)\; font-size: 14px\; white-space: pre-wrap\;">\n<div class="_1mf _1mj" data-offset-key="6isfd-0-0" style="position: relative\; direction: ltr\; font-family: inherit\;"><span style="font-size:16px\;"><span style="color:#000000\;"><span data-offset-key="6isfd-0-0" style="font-family: inherit\;">Every day in Solano County\, families and individuals struggle to put food on the table\, keep a roof over their heads\, or keep the lights on in their homes. For many\, Christmas is just another season of struggle\, but it doesn&rsquo\;t have to be. Your sponsorship at our Very Cherry Red Kettle Kick Off helps provide food\, homeless outreach\, rental assistance\, and so much more throughout the year. Your generosity makes the holidays very special for thousands of people this Christmas Season. Please\, help us be a shield for needy families and individuals all over Solano County.</span></span></span></div>\n</div>\n
LOCATION:Jelly Belly Candy Company 1 Jelly Belly Lane Fairfield\, CA 94533
UID:e.1559.3065
SEQUENCE:3
DTSTAMP:20260421T095413Z
URL:https://business.vacavillechamber.com/events/details/the-salvation-army-of-solano-county-very-cherry-red-kettle-kickoff-3065
END:VEVENT

END:VCALENDAR
