BEGIN:VCALENDAR
VERSION:2.0
PRODID:-//ChamberMaster//Event Calendar 2.0//EN
METHOD:PUBLISH
X-PUBLISHED-TTL:P3D
REFRESH-INTERVAL:P3D
CALSCALE:GREGORIAN
BEGIN:VEVENT
DTSTART:20160520T170000Z
DTEND:20160520T190000Z
X-MICROSOFT-CDO-ALLDAYEVENT:FALSE
SUMMARY:The Leaven Grand Opening
DESCRIPTION:Grand Opening of the tutoring center.\n\nParking will be at First Baptist Church\, 1127 Davis St\, Vacaville\, CA 95687.\n\nShuttles will be provided to Alamo Gardens.
X-ALT-DESC;FMTTYPE=text/html:Grand Opening of the tutoring center.<br />\nParking will be at First Baptist Church\,&nbsp\;<span style="color: rgb(34\, 34\, 34)\; font-family: arial\, sans-serif\; line-height: 16.12px\;">1127 Davis St\, Vacaville\, CA 95687.<br />\nShuttles will be provided to Alamo Gardens.&nbsp\;</span>
LOCATION:Alamo Gardens 1501 Alamo Drive Vacaville CA 95687
UID:e.1559.1871
SEQUENCE:3
DTSTAMP:20260421T020939Z
URL:https://business.vacavillechamber.com/events/details/the-leaven-grand-opening-05-20-2016-1871
END:VEVENT

END:VCALENDAR
