BEGIN:VCALENDAR
VERSION:2.0
PRODID:-//ChamberMaster//Event Calendar 2.0//EN
METHOD:PUBLISH
X-PUBLISHED-TTL:P3D
REFRESH-INTERVAL:P3D
CALSCALE:GREGORIAN
BEGIN:VEVENT
DTSTART:20161117T010000Z
DTEND:20161117T020000Z
X-MICROSOFT-CDO-ALLDAYEVENT:FALSE
SUMMARY:The Joint Chiropractic-Ribbon Cutting
DESCRIPTION:Let's welcome The Joint Chiropractic to the Vacaville community!
X-ALT-DESC;FMTTYPE=text/html:Let&#39\;s welcome The Joint Chiropractic to the Vacaville community!
LOCATION:1610 E Monte Vista #103 Vacaville\, CA 95688
UID:e.1559.1925
SEQUENCE:3
DTSTAMP:20260420T183902Z
URL:https://business.vacavillechamber.com/events/details/the-joint-chiropractic-ribbon-cutting-1925
END:VEVENT

END:VCALENDAR
