BEGIN:VCALENDAR
VERSION:2.0
PRODID:-//ChamberMaster//Event Calendar 2.0//EN
METHOD:PUBLISH
X-PUBLISHED-TTL:P3D
REFRESH-INTERVAL:P3D
CALSCALE:GREGORIAN
BEGIN:VEVENT
DTSTART:20160410T220000Z
DTEND:20160411T000000Z
X-MICROSOFT-CDO-ALLDAYEVENT:FALSE
SUMMARY:The Commanders Jazz Ensemble in Concert
DESCRIPTION:The USAF Band of the Golden West will present a free concert featuring the Commanders Jazz Ensemble Sunday April 10 at 3PM at the Vacaville Performing Arts Center. Free tickets are available at the center's Box Office.
X-ALT-DESC;FMTTYPE=text/html:The USAF Band of the Golden West will present a free concert featuring the Commanders Jazz Ensemble Sunday April 10 at 3PM at the Vacaville Performing Arts Center. Free tickets are available at the center&#39\;s Box Office.
LOCATION:Vacaville Performing Arts Theatre 1010 Ulatis Drive Vacaville\, CA 95687
UID:e.1559.1858
SEQUENCE:3
DTSTAMP:20260421T032142Z
URL:https://business.vacavillechamber.com/events/details/the-commanders-jazz-ensemble-in-concert-04-10-2016-1858
END:VEVENT

END:VCALENDAR
